BEGIN:VCALENDAR
VERSION:2.0
PRODID:-//Welshot Imaging - ECPv6.15.20//NONSGML v1.0//EN
CALSCALE:GREGORIAN
METHOD:PUBLISH
X-WR-CALNAME:Welshot Imaging
X-ORIGINAL-URL:https://welshotimaging.co.uk
X-WR-CALDESC:Events for Welshot Imaging
REFRESH-INTERVAL;VALUE=DURATION:PT1H
X-Robots-Tag:noindex
X-PUBLISHED-TTL:PT1H
BEGIN:VTIMEZONE
TZID:Europe/London
BEGIN:DAYLIGHT
TZOFFSETFROM:+0000
TZOFFSETTO:+0100
TZNAME:BST
DTSTART:20200329T010000
END:DAYLIGHT
BEGIN:STANDARD
TZOFFSETFROM:+0100
TZOFFSETTO:+0000
TZNAME:GMT
DTSTART:20201025T010000
END:STANDARD
BEGIN:DAYLIGHT
TZOFFSETFROM:+0000
TZOFFSETTO:+0100
TZNAME:BST
DTSTART:20210328T010000
END:DAYLIGHT
BEGIN:STANDARD
TZOFFSETFROM:+0100
TZOFFSETTO:+0000
TZNAME:GMT
DTSTART:20211031T010000
END:STANDARD
BEGIN:DAYLIGHT
TZOFFSETFROM:+0000
TZOFFSETTO:+0100
TZNAME:BST
DTSTART:20220327T010000
END:DAYLIGHT
BEGIN:STANDARD
TZOFFSETFROM:+0100
TZOFFSETTO:+0000
TZNAME:GMT
DTSTART:20221030T010000
END:STANDARD
BEGIN:DAYLIGHT
TZOFFSETFROM:+0000
TZOFFSETTO:+0100
TZNAME:BST
DTSTART:20230326T010000
END:DAYLIGHT
BEGIN:STANDARD
TZOFFSETFROM:+0100
TZOFFSETTO:+0000
TZNAME:GMT
DTSTART:20231029T010000
END:STANDARD
BEGIN:DAYLIGHT
TZOFFSETFROM:+0000
TZOFFSETTO:+0100
TZNAME:BST
DTSTART:20240331T010000
END:DAYLIGHT
BEGIN:STANDARD
TZOFFSETFROM:+0100
TZOFFSETTO:+0000
TZNAME:GMT
DTSTART:20241027T010000
END:STANDARD
BEGIN:DAYLIGHT
TZOFFSETFROM:+0000
TZOFFSETTO:+0100
TZNAME:BST
DTSTART:20250330T010000
END:DAYLIGHT
BEGIN:STANDARD
TZOFFSETFROM:+0100
TZOFFSETTO:+0000
TZNAME:GMT
DTSTART:20251026T010000
END:STANDARD
BEGIN:DAYLIGHT
TZOFFSETFROM:+0000
TZOFFSETTO:+0100
TZNAME:BST
DTSTART:20260329T010000
END:DAYLIGHT
BEGIN:STANDARD
TZOFFSETFROM:+0100
TZOFFSETTO:+0000
TZNAME:GMT
DTSTART:20261025T010000
END:STANDARD
END:VTIMEZONE
BEGIN:VEVENT
DTSTART;TZID=Europe/London:20250511T140000
DTEND;TZID=Europe/London:20250511T220000
DTSTAMP:20260420T114347
CREATED:20250131T095600Z
LAST-MODIFIED:20250319T103023Z
UID:10000397-1746972000-1747000800@welshotimaging.co.uk
SUMMARY:A to Z – Creative Photography in Chester – A Photographic Adventure with Your Camera
DESCRIPTION:
URL:https://welshotimaging.co.uk/event/a-to-z-creative-photography-in-chester-a-photographic-adventure-with-your-camera/
LOCATION:Chester Cross\, 46 Watergate St\, Chester\, CH1 1NP\, United Kingdom
CATEGORIES:Full Day Event
ATTACH;FMTTYPE=image/jpeg:https://welshotimaging.co.uk/wp-content/uploads/2023/07/Chester-A-to-Z-CAE-September-2023-Victoria-smith-MAIN-IMAGE.jpg
ORGANIZER;CN="Welshot Imaging LTD":MAILTO:info@welshotimaging.co.uk
END:VEVENT
BEGIN:VEVENT
DTSTART;TZID=Europe/London:20240721T103000
DTEND;TZID=Europe/London:20240721T163000
DTSTAMP:20260420T114347
CREATED:20240505T133032Z
LAST-MODIFIED:20240505T133032Z
UID:10000359-1721557800-1721579400@welshotimaging.co.uk
SUMMARY:Fashion Photography with Off Camera Flash - Chester
DESCRIPTION:
URL:https://welshotimaging.co.uk/event/fashion-photography-with-off-camera-flash-chester/
LOCATION:Chester Cross\, 46 Watergate St\, Chester\, CH1 1NP\, United Kingdom
CATEGORIES:Full Day Event
ATTACH;FMTTYPE=image/jpeg:https://welshotimaging.co.uk/wp-content/uploads/2024/05/MAIN-IMAGE-21st-JUL-2024-Gill-McGowan-7-scaled.jpg
ORGANIZER;CN="Welshot Imaging LTD":MAILTO:info@welshotimaging.co.uk
END:VEVENT
BEGIN:VEVENT
DTSTART;TZID=Europe/London:20240609T103000
DTEND;TZID=Europe/London:20240609T163000
DTSTAMP:20260420T114347
CREATED:20231107T101424Z
LAST-MODIFIED:20231107T101424Z
UID:10000308-1717929000-1717950600@welshotimaging.co.uk
SUMMARY:Street & Documentary Photography in Chester – A WelshotRewards Day
DESCRIPTION:
URL:https://welshotimaging.co.uk/event/street-documentary-photography-in-chester-a-welshotrewards-day/
LOCATION:Chester Cross\, 46 Watergate St\, Chester\, CH1 1NP\, United Kingdom
CATEGORIES:Reward Day
ATTACH;FMTTYPE=image/jpeg:https://welshotimaging.co.uk/wp-content/uploads/2021/03/5991057947_d09a0bd667_b-1024x683.jpg
ORGANIZER;CN="Welshot Imaging LTD":MAILTO:info@welshotimaging.co.uk
END:VEVENT
BEGIN:VEVENT
DTSTART;TZID=Europe/London:20221218T110000
DTEND;TZID=Europe/London:20221218T170000
DTSTAMP:20260420T114347
CREATED:20221014T090211Z
LAST-MODIFIED:20221014T090211Z
UID:10000246-1671361200-1671382800@welshotimaging.co.uk
SUMMARY:Street Photography in Chester - WelshotRewards Day
DESCRIPTION:
URL:https://welshotimaging.co.uk/event/street-photography-in-chester-welshotrewards-day/
LOCATION:Chester Cross\, 46 Watergate St\, Chester\, CH1 1NP\, United Kingdom
CATEGORIES:Reward Day
ATTACH;FMTTYPE=image/jpeg:https://welshotimaging.co.uk/wp-content/uploads/2022/10/18th-December-2022-WRD-Street-Photography-Mark-Carlie-1.jpg
ORGANIZER;CN="Welshot Imaging LTD":MAILTO:info@welshotimaging.co.uk
END:VEVENT
BEGIN:VEVENT
DTSTART;TZID=Europe/London:20221204T110000
DTEND;TZID=Europe/London:20221204T160000
DTSTAMP:20260420T114347
CREATED:20221015T135412Z
LAST-MODIFIED:20221025T204147Z
UID:10000245-1670151600-1670169600@welshotimaging.co.uk
SUMMARY:Winter Fashion Portrait Photography in Chester
DESCRIPTION:
URL:https://welshotimaging.co.uk/event/winter-fashion-portrait-photography-in-chester/
LOCATION:Chester Cross\, 46 Watergate St\, Chester\, CH1 1NP\, United Kingdom
CATEGORIES:Mini-Module
ATTACH;FMTTYPE=image/jpeg:https://welshotimaging.co.uk/wp-content/uploads/2022/10/4th-Dec-2022-Winter-Fashion-Chester-Mini-Module-Rob-Jones-3-scaled.jpg
ORGANIZER;CN="Welshot Imaging LTD":MAILTO:info@welshotimaging.co.uk
END:VEVENT
BEGIN:VEVENT
DTSTART;TZID=Europe/London:20211003T103000
DTEND;TZID=Europe/London:20211003T163000
DTSTAMP:20260420T114347
CREATED:20210513T185938Z
LAST-MODIFIED:20210713T091252Z
UID:10000184-1633257000-1633278600@welshotimaging.co.uk
SUMMARY:WelshotRewards Day - Street & Documentary Photography in Chester
DESCRIPTION:Photo Credit: Derek Buick – Taken at a Welshot Street & Documentary Photography Event\n\n\n\n\n\n\n\n\n\nPhoto Credit:  Steven RileyPhoto Credit:  Steven RileyPhoto Credit:  Steven RileyPhoto Credit:  Howard Murphy\n\n\n\n\n\nYOU WILL LEARN\n\n\n\nHow to use your camera settings and functionsHow to shoot cityscape long exposuresHow to shoot street and documentary style photographyThe difference between street and documentary photographyHow to become more confident shooting street photographyHow to think creativelyWhat Welshot can do for you and your photography\n\n\n\nTHE SCHEDULE\n\n\n\n10.30am – Meet at Chester Cross10.45am – Photography starts – A more detailed itinerary will be sent to delegates closer to the event date.1.00pm – Lunch – We may stop\, we may eat on the hoof (not included)4.30pm – Finish\n\n\n\nPLEASE BRING\n\n\n\nCamera and lenses suitable for this eventSpare Batteries and Memory CardTripodSnacks and drinks to keep you goingAppropriate Outdoor/Wet Weather clothing (if applicable for this event)\n\n\n\n\n\nWHAT WILL HAPPEN\n\n\n\nChester a vibrant and historic City and the perfect place to take your camera and learn all about street photography. Join Welshot on this great day out and we will help to boost your confidence and help you to conquer your fear of shooting strangers on the street.  We will also spend some time  helping you to understand the do’s and don’ts of street photography and if you really want to push yourself we will set you a project that will start you on the road to developing a series of projects which will bring real focus and a sense of purpose to your work and developing your style. Let Team Welshot help YOU to get the best out of YOUR camera.     \n\n\n\nWe can guarantee is that you will get some incredible photos\, learn a ton of photography skills and techniques\, make some new friends and have a load of laughs. \n\n\n\nThe Welshot Team will be at hand throughout the day to assist and help you get the best from your camera\, so you can leave at the end of the days adventure with memory cards full of beautiful photographs and great memories. \n\n\n\nIf you are a Welshot Member and would like to book on this event using your WelshotRewards – Please email Lee on lee@welshotimaging.co.uk and we will book you on manually. \n\n\n\nWe will be keeping within Welsh and English Government regulations regarding the Coronavirus and Covid 19 Regulations\, and we expect our delegates to do the same.  \n\n\n\n \n\n\n\n\n\n\n\n£180.00 \n\n\n\n\n\nWelshotReward Days are for Academy Members Only. This event is 10\,000 WelshotRewards (equal to £180.00) which will be converted to WelshotRewards at checkout and deducted automatically To become a Welshot Member and receive some great benefits check this link!
URL:https://welshotimaging.co.uk/event/welshotrewards-day-street-documentary-photography-in-chester/
LOCATION:Chester Cross\, 46 Watergate St\, Chester\, CH1 1NP\, United Kingdom
CATEGORIES:Reward Day
ATTACH;FMTTYPE=image/jpeg:https://welshotimaging.co.uk/wp-content/uploads/2021/05/FEATURED-IMAGE-Derek-Buick.jpg
ORGANIZER;CN="Welshot Imaging LTD":MAILTO:info@welshotimaging.co.uk
END:VEVENT
BEGIN:VEVENT
DTSTART;TZID=Europe/London:20210613T130000
DTEND;TZID=Europe/London:20210613T170000
DTSTAMP:20260420T114347
CREATED:20210424T102355Z
LAST-MODIFIED:20210610T103652Z
UID:10000169-1623589200-1623603600@welshotimaging.co.uk
SUMMARY:Chester Walls Photo-Walk - Mini-Module with Masterclass
DESCRIPTION:Image Credit:  Mark Carline\n\n\n\n\n\n\n\n\n\n\n\n\n\nImage Credit:  Steven RileyImage Credit:  Debbie HuntImage Credit:  Louisa CrossleyImage Credit:  Sarah Rushton\n\n\n\n\n\nYou Will Learn\n\n\n\nHow to use your camera settings and functionsHow to shoot architectural photographyHow to compose and shoot your imagesHow shooting in black and white / colour gives different resultsHow to shoot for HDR (High Dynamic Range)How to think creativelyWhat Welshot can do for you and your photography\n\n\n\nThe Schedule\n\n\n\n1.00pm – Meet at the Chester Cross on Watergate Street1:05pm – Head for the Chester Clock and make way up onto the Chester City Walls1: 15pm – Photography starts:  1:1 and Group tuition3.00pm – Masterclass:  Architectural photography & how to shoot for HDR (High Dynamic Range)4\,00pm – Photography resumes:  1:1 and Group tuition5:00pm – Finish\n\n\n\nPlease Bring\n\n\n\nCamera and lenses suitable for this event – Wide angle if possible or standard zoomSpare Batteries and Memory CardTripod / Cable release if you have oneRefreshmentsA list of ideas\, help\, questions etc that you would like to discuss with Welshot Team Leaders\n\n\n\n\n\nWhat Will Happen\n\n\n\nWhat could be better than walking the walls of Chester City with your camera.  If you have missed getting out and about with your camera and enjoying the company of those who have a passion for photography\, then this is the event for you.  Meeting at the historical cross on Watergate Street\, Chester the Welshot Team lead a small group of photographers in this Welshot Mini Module – complete with a masterclass in architectural photography & how to shoot for HDR (High Dynamic Range). \n\n\n\nThe Welshot Team will be at hand throughout the day to assist and help you get the best from your camera\, so you can leave at the end of the day with memory cards full of beautiful photographs and great memories. \n\n\n\nWe will be keeping within Welsh and English Government regulations regarding the Coronavirus and Covid 19 Regulations\, and we expect our delegates to do the same.  \n\n\n\n\n\n\n\n£40.00 \n\n\n\n\n\nThis event is discounted to £32.00 at checkout if you are a Welshot Academy Member. To become a Welshot Member and receive some great benefits check this link!
URL:https://welshotimaging.co.uk/event/chester-walls-photo-walk-mini-module-with-masterclass/
LOCATION:Chester Cross\, 46 Watergate St\, Chester\, CH1 1NP\, United Kingdom
CATEGORIES:Mini-Module
ATTACH;FMTTYPE=image/jpeg:https://welshotimaging.co.uk/wp-content/uploads/2021/04/Featured-Image-Chester-Photo-Walk-13th-June-2021-by-Mark-Carline.jpg
ORGANIZER;CN="Welshot Imaging LTD":MAILTO:info@welshotimaging.co.uk
END:VEVENT
END:VCALENDAR