BEGIN:VCALENDAR
VERSION:2.0
PRODID:-//Welshot Imaging - ECPv6.15.20//NONSGML v1.0//EN
CALSCALE:GREGORIAN
METHOD:PUBLISH
X-WR-CALNAME:Welshot Imaging
X-ORIGINAL-URL:https://welshotimaging.co.uk
X-WR-CALDESC:Events for Welshot Imaging
REFRESH-INTERVAL;VALUE=DURATION:PT1H
X-Robots-Tag:noindex
X-PUBLISHED-TTL:PT1H
BEGIN:VTIMEZONE
TZID:Europe/London
BEGIN:DAYLIGHT
TZOFFSETFROM:+0000
TZOFFSETTO:+0100
TZNAME:BST
DTSTART:20230326T010000
END:DAYLIGHT
BEGIN:STANDARD
TZOFFSETFROM:+0100
TZOFFSETTO:+0000
TZNAME:GMT
DTSTART:20231029T010000
END:STANDARD
BEGIN:DAYLIGHT
TZOFFSETFROM:+0000
TZOFFSETTO:+0100
TZNAME:BST
DTSTART:20240331T010000
END:DAYLIGHT
BEGIN:STANDARD
TZOFFSETFROM:+0100
TZOFFSETTO:+0000
TZNAME:GMT
DTSTART:20241027T010000
END:STANDARD
BEGIN:DAYLIGHT
TZOFFSETFROM:+0000
TZOFFSETTO:+0100
TZNAME:BST
DTSTART:20250330T010000
END:DAYLIGHT
BEGIN:STANDARD
TZOFFSETFROM:+0100
TZOFFSETTO:+0000
TZNAME:GMT
DTSTART:20251026T010000
END:STANDARD
END:VTIMEZONE
BEGIN:VEVENT
DTSTART;TZID=Europe/London:20240731T183000
DTEND;TZID=Europe/London:20240731T220000
DTSTAMP:20260420T115957
CREATED:20240509T121503Z
LAST-MODIFIED:20240509T121527Z
UID:10000360-1722450600-1722463200@welshotimaging.co.uk
SUMMARY:Getting Creative with Photography in Conwy - Llandudno Photographic Academy Evening
DESCRIPTION:
URL:https://welshotimaging.co.uk/event/getting-creative-with-photography-in-conwy-llandudno-photographic-academy-evening/
LOCATION:Vicarage Gardens Pay & Display Car Park – Conwy\, Vicarage Gardens\,\, Rose Hill St\, Conwy\, LL32 8LD\, United Kingdom
CATEGORIES:Academy Evening
ATTACH;FMTTYPE=image/jpeg:https://welshotimaging.co.uk/wp-content/uploads/2024/05/LAE-JUL-2024-Sarah-Horrocks-3-scaled.jpg
ORGANIZER;CN="Welshot Imaging LTD":MAILTO:info@welshotimaging.co.uk
END:VEVENT
BEGIN:VEVENT
DTSTART;TZID=Europe/London:20240802T183000
DTEND;TZID=Europe/London:20240802T220000
DTSTAMP:20260420T115957
CREATED:20240511T094910Z
LAST-MODIFIED:20240514T104100Z
UID:10000362-1722623400-1722636000@welshotimaging.co.uk
SUMMARY:Portrait Photography – Portfolio Building Session at the Welshot Creative Hub with Elle Baldwinson
DESCRIPTION:
URL:https://welshotimaging.co.uk/event/portrait-photography-portfolio-building-session-at-the-welshot-creative-hub-with-elle-baldwinson/
LOCATION:Welshot Creative Hub – 16 Trinity Square Llandudno\, 16 Trinity Square\, Llandudno - North Wales\, LL30 2RB\, United Kingdom
CATEGORIES:Portfolio Building
ATTACH;FMTTYPE=image/jpeg:https://welshotimaging.co.uk/wp-content/uploads/2024/05/Elle-Baldwinson-GTKY-Chester-Rob-Jones-1-scaled.jpg
ORGANIZER;CN="Welshot Imaging LTD":MAILTO:info@welshotimaging.co.uk
END:VEVENT
BEGIN:VEVENT
DTSTART;TZID=Europe/London:20240803T103000
DTEND;TZID=Europe/London:20240803T170000
DTSTAMP:20260420T115957
CREATED:20240514T105210Z
LAST-MODIFIED:20240514T105210Z
UID:10000365-1722681000-1722704400@welshotimaging.co.uk
SUMMARY:Build Your Portfolio Day with Elle Baldwinson – Portrait Photography
DESCRIPTION:
URL:https://welshotimaging.co.uk/event/build-your-portfolio-day-with-elle-baldwinson-portrait-photography/
LOCATION:Welshot Creative Hub – 16 Trinity Square Llandudno\, 16 Trinity Square\, Llandudno - North Wales\, LL30 2RB\, United Kingdom
CATEGORIES:Portfolio Building
ATTACH;FMTTYPE=image/jpeg:https://welshotimaging.co.uk/wp-content/uploads/2024/05/MAIN-IMAGE-Elle-Baldwinson-GTKY-Chester-Eifion-Williams-46-scaled.jpg
ORGANIZER;CN="Welshot Imaging LTD":MAILTO:info@welshotimaging.co.uk
END:VEVENT
END:VCALENDAR