BEGIN:VCALENDAR
VERSION:2.0
PRODID:-//Welshot Imaging - ECPv6.15.20//NONSGML v1.0//EN
CALSCALE:GREGORIAN
METHOD:PUBLISH
X-ORIGINAL-URL:https://welshotimaging.co.uk
X-WR-CALDESC:Events for Welshot Imaging
REFRESH-INTERVAL;VALUE=DURATION:PT1H
X-Robots-Tag:noindex
X-PUBLISHED-TTL:PT1H
BEGIN:VTIMEZONE
TZID:Europe/London
BEGIN:DAYLIGHT
TZOFFSETFROM:+0000
TZOFFSETTO:+0100
TZNAME:BST
DTSTART:20240331T010000
END:DAYLIGHT
BEGIN:STANDARD
TZOFFSETFROM:+0100
TZOFFSETTO:+0000
TZNAME:GMT
DTSTART:20241027T010000
END:STANDARD
BEGIN:DAYLIGHT
TZOFFSETFROM:+0000
TZOFFSETTO:+0100
TZNAME:BST
DTSTART:20250330T010000
END:DAYLIGHT
BEGIN:STANDARD
TZOFFSETFROM:+0100
TZOFFSETTO:+0000
TZNAME:GMT
DTSTART:20251026T010000
END:STANDARD
BEGIN:DAYLIGHT
TZOFFSETFROM:+0000
TZOFFSETTO:+0100
TZNAME:BST
DTSTART:20260329T010000
END:DAYLIGHT
BEGIN:STANDARD
TZOFFSETFROM:+0100
TZOFFSETTO:+0000
TZNAME:GMT
DTSTART:20261025T010000
END:STANDARD
END:VTIMEZONE
BEGIN:VEVENT
DTSTART;TZID=Europe/London:20250528T183000
DTEND;TZID=Europe/London:20250528T220000
DTSTAMP:20260420T114654
CREATED:20250131T084059Z
LAST-MODIFIED:20250319T103435Z
UID:10000396-1748457000-1748469600@welshotimaging.co.uk
SUMMARY:The Natural World in Macro & Close-Up Photography – Llandudno Photographic Academy Evening
DESCRIPTION:
URL:https://welshotimaging.co.uk/event/the-natural-world-in-macro-close-up-photography-llandudno-photographic-academy-evening/
LOCATION:Welshot Creative Hub – 16 Trinity Square Llandudno\, 16 Trinity Square\, Llandudno - North Wales\, LL30 2RB\, United Kingdom
CATEGORIES:Academy Evening
ATTACH;FMTTYPE=image/jpeg:https://welshotimaging.co.uk/wp-content/uploads/2025/01/MAIN-IMAGE-Macro-Photography-LAE-MAY-2025-Eifion-Williams-1-scaled.jpg
ORGANIZER;CN="Welshot Imaging LTD":MAILTO:info@welshotimaging.co.uk
END:VEVENT
END:VCALENDAR