BEGIN:VCALENDAR
VERSION:2.0
PRODID:-//Welshot Imaging - ECPv6.15.20//NONSGML v1.0//EN
CALSCALE:GREGORIAN
METHOD:PUBLISH
X-WR-CALNAME:Welshot Imaging
X-ORIGINAL-URL:https://welshotimaging.co.uk
X-WR-CALDESC:Events for Welshot Imaging
REFRESH-INTERVAL;VALUE=DURATION:PT1H
X-Robots-Tag:noindex
X-PUBLISHED-TTL:PT1H
BEGIN:VTIMEZONE
TZID:Europe/London
BEGIN:DAYLIGHT
TZOFFSETFROM:+0000
TZOFFSETTO:+0100
TZNAME:BST
DTSTART:20250330T010000
END:DAYLIGHT
BEGIN:STANDARD
TZOFFSETFROM:+0100
TZOFFSETTO:+0000
TZNAME:GMT
DTSTART:20251026T010000
END:STANDARD
BEGIN:DAYLIGHT
TZOFFSETFROM:+0000
TZOFFSETTO:+0100
TZNAME:BST
DTSTART:20260329T010000
END:DAYLIGHT
BEGIN:STANDARD
TZOFFSETFROM:+0100
TZOFFSETTO:+0000
TZNAME:GMT
DTSTART:20261025T010000
END:STANDARD
BEGIN:DAYLIGHT
TZOFFSETFROM:+0000
TZOFFSETTO:+0100
TZNAME:BST
DTSTART:20270328T010000
END:DAYLIGHT
BEGIN:STANDARD
TZOFFSETFROM:+0100
TZOFFSETTO:+0000
TZNAME:GMT
DTSTART:20271031T010000
END:STANDARD
END:VTIMEZONE
BEGIN:VEVENT
DTSTART;TZID=Europe/London:20260614T103000
DTEND;TZID=Europe/London:20260614T163000
DTSTAMP:20260420T121341
CREATED:20250730T160317Z
LAST-MODIFIED:20260203T102841Z
UID:10000436-1781433000-1781454600@welshotimaging.co.uk
SUMMARY:Seascape Photography & Nature Ramble – Talacre Beach – North Wales
DESCRIPTION:Seascape Photography & Nature Ramble – Talacre Beach – North Wales\nStep into the serene beauty of Talacre Beach for a unique photography experience with Welshot. Set at the foot of the iconic Point of Ayr Lighthouse which is perched on the northernmost point of mainland Wales\, this Welshot full-day event\, complete with a masterclass in long exposures offers a blend of breathtaking seascape photography and nature exploration. \nThe day begins with a gentle ramble through the diverse natural habitats and sprawling sand dunes that make up the landscape of Talacre. As we make our way towards the shoreline\, you’ll be captivated by the view of the dramatic Point of Ayr Lighthouse standing tall against the vast expanse of the Dee Estuary. With the light shifting and the sound of waves crashing against the shore\, this location offers a wealth of shooting opportunities for photographers of all levels. \nWhether you’re drawn to the dynamic power of the sea or the delicate details of nature\, this session has something for everyone. Experiment with long exposure techniques to capture the movement of the water\, learn how to photograph stunning sunsets over the estuary\, or immerse yourself in macro and close-up photography to discover the intricate textures of the landscape\, from seaweed to sand patterns. \nThere are no limits to your creativity here\, just endless possibilities for exploration and the chance to refine your photography skills in a relaxed and inspiring environment. \nYou Will Learn\n\nLong exposure techniques:\n\nHow to capture smooth\, dynamic water effects and dramatic skies using long exposure settings.\n\n\nMacro & close-up photography:\n\nHow to capture intricate details of nature\, from sand textures to small coastal plants and wildlife.\n\n\nComposition in seascapes:\n\nUnderstanding the importance of leading lines\, framing\, and balance in capturing expansive landscapes.\n\n\nUtilising natural light:\n\nHow to make the most of natural light throughout the day\, from soft morning light to golden hour.\n\n\nLandscapes and coastal photography:\n\nTechniques for photographing dramatic coastal environments\, including managing exposure and depth.\n\n\nCreative exploration:\n\nDeveloping your unique photography style by experimenting with various techniques and subjects in a stunning natural setting.\n\n\nUsing the environment:\n\nHow to incorporate elements of the surroundings\, such as the lighthouse\, sand dunes\, and coastline\, into your compositions.\n\n\n\nBeginner to photography? We’re here for you.\nWhether you are a beginner to photography\, a photographer who would like to try a new genre\, learn a new technique or skill\, or\, a more advanced photographer who wants to build their image portfolio\, you will be made welcome\, and we would love to help you get the best out of your camera. \nThe Welshot Team will be at hand throughout this Seascape Photography & Nature Ramble – Talacre Beach – North Wales event to assist and help you get the best from your camera\, so you can leave at the end of this session with memory cards full of beautiful photographs and great memories having learned a thing or three about photography and your camera. \nEvent Schedule\n10:30 – Meet – The Point Bar & Restaurant (You will need to pay for parking)\n10:35 – Nature Ramble – Macro and Close-Up Photography\n13:00 – Masterclass – Long Exposures\n14:00 – Seascape / Landscape Photography\n16:30 – Finish \nPlease Bring \nCamera and lenses suitable for this event – Wide angle if possible – Standard zoom – Macro – Bring the lenses you have (or like working with) and we will help you get the best from your lens and camera\nSpare (Fully Charged) batteries and memory card\nTripod / Cable release if you have one\nAppropriate clothing for all types of weather conditions.\nRefreshments – Snacks or drinks you think you will require during the event \n\nPlease note:  We advise you bring a picnic lunch and refreshments to keep you going throughout the day.  There is a pub type restaurant close by but we may decide to eat on the hoof!  If you do wish to stop\, you may do so\, but\, it will be your responsibility to catch up to the rest of the group.\n\nA list of ideas\, help\, questions etc that you would like to discuss with Welshot Team Leaders \nPlease Note \nTransportation\, parking charges\, food or drink are not included in the cost of this event\nThis is an outdoors event.  Please make sure you come dressed appropriately.\nIf Welshot decides to postpone this event due to bad weather conditions\, you will be given several options regarding your booking.\nIn accordance with our Terms of Service we may need to make changes to this event and we will do all we can to inform you as soon as possible.
URL:https://welshotimaging.co.uk/event/seascape-photography-nature-ramble-talacre-beach-north-wales/
LOCATION:The Point Bar & Restaurant – Point of Ayr\, 36 Station Road\, Talacre\, Holywell\, CH8 9RP\, United Kingdom
CATEGORIES:Full Day Event
ATTACH;FMTTYPE=image/jpeg:https://welshotimaging.co.uk/wp-content/uploads/2025/07/MAIN-IMAGE-Seascape-Photogrpahy-in-Winter-Talacre-Beach-16th-November-2025-Eifion-Wiliams-1-scaled.jpg
ORGANIZER;CN="Welshot Imaging LTD":MAILTO:info@welshotimaging.co.uk
END:VEVENT
END:VCALENDAR