BEGIN:VCALENDAR
VERSION:2.0
PRODID:-//Welshot Imaging - ECPv6.15.20//NONSGML v1.0//EN
CALSCALE:GREGORIAN
METHOD:PUBLISH
X-ORIGINAL-URL:https://welshotimaging.co.uk
X-WR-CALDESC:Events for Welshot Imaging
REFRESH-INTERVAL;VALUE=DURATION:PT1H
X-Robots-Tag:noindex
X-PUBLISHED-TTL:PT1H
BEGIN:VTIMEZONE
TZID:Europe/London
BEGIN:DAYLIGHT
TZOFFSETFROM:+0000
TZOFFSETTO:+0100
TZNAME:BST
DTSTART:20250330T010000
END:DAYLIGHT
BEGIN:STANDARD
TZOFFSETFROM:+0100
TZOFFSETTO:+0000
TZNAME:GMT
DTSTART:20251026T010000
END:STANDARD
BEGIN:DAYLIGHT
TZOFFSETFROM:+0000
TZOFFSETTO:+0100
TZNAME:BST
DTSTART:20260329T010000
END:DAYLIGHT
BEGIN:STANDARD
TZOFFSETFROM:+0100
TZOFFSETTO:+0000
TZNAME:GMT
DTSTART:20261025T010000
END:STANDARD
BEGIN:DAYLIGHT
TZOFFSETFROM:+0000
TZOFFSETTO:+0100
TZNAME:BST
DTSTART:20270328T010000
END:DAYLIGHT
BEGIN:STANDARD
TZOFFSETFROM:+0100
TZOFFSETTO:+0000
TZNAME:GMT
DTSTART:20271031T010000
END:STANDARD
END:VTIMEZONE
BEGIN:VEVENT
DTSTART;TZID=Europe/London:20261003T103000
DTEND;TZID=Europe/London:20261003T150000
DTSTAMP:20260420T100451
CREATED:20251024T140740Z
LAST-MODIFIED:20260224T124055Z
UID:10000439-1791023400-1791039600@welshotimaging.co.uk
SUMMARY:Capture & Connect - A Morning for Creatives & Business Owners
DESCRIPTION:Learn photography tips and techniques\, use our studio\, use our expertise\, you can even use our cameras – all while you meet and mingle with other creatives and build your brand.\nJoin us for a relaxed morning of creativity\, connection and conversation at the Welshot Creative Hub in Llandudno. Designed especially for small business owners\, freelancers\, and creatives\, this informal get-together is all about networking\, learning and discovering how photography can help tell your brand story. \nEnjoy a privately catered for lunch by Margaret Bell\, meet like-minded people\, and even get your headshot updated in our studio by our professional photographers. You’ll also pick up a few practical skills and techniques for improving your photography\, perfect for your website\, social media or marketing content. \nBring your own camera\, use your phone\, or borrow one of our Welshot cameras if you’d like to take part in the hands-on photography activities. You’re even welcome to bring along a few props from your business to practice photographing your own products or brand elements. \nYou’ll Enjoy:\n\nMeeting local creatives and small business owners in a relaxed environment\nThe opportunity to update your professional headshot (supplied digitally via email)\nLearning simple photography tips and techniques you can use right away to create content for your website and social media\nTaking part in short\, practical sessions – make sure you bring your camera\, phone\, or borrow one of ours if you’d like to do this\nThe use of our lighting equipment\, backdrops and props\nA peek behind the scenes at the Welshot Creative Hub\nMeeting and networking with other local businesses\nA healthy buffet style lunch catered by our own private chef – Margaret Bell will be served in our very own creative atmosphere\n\nYou’re welcome to bring along a few of your own props\, products or branded items to photograph during the hands-on activities. \nThis is an informal event designed to give you a taste of what Welshot for Businesses is all about while helping you to create content\, build confidence behind your camera (or phone)\, and connect with others in your local creative community.  No sales pitch\, no pressure\, just good company\, great conversation\, and the chance to mix\, mingle\, network and create content for your business if that’s what you’d like to do. \nWant to know what it’s like to attend a Welshot for Business on a One-to-One  basis?  See these blogs by Gill Smith of True North Vintage\, Rachel from Artisan Living\, Del from The Little Reading Nest and Ellen of Cefnfor Candles \nEvent Schedule\n10:15 – Meet at the Welshot Creative Hub – 16 Trinity Square\, Llandudno\n10:30 – Welcome\, introductions and running of the event\n10:35 – Let’s connect and create! (don’t forget to get a headshot taken for your socials)\n1:30 – Lunch is served (catered for by Margaret Bell ) – Stay for lunch\, continue networking and ask questions while you eat.\n3:00 – Thank You for coming \nPlease Note:\nTea\, coffee\, hot chocolate and cold drinks are included throughout the event\nA buffet style lunch (catered by Margaret Bell will be served at 1:30pm)\nUnable to attend?  Tickets can be transferred (or used as a credit/part payment) towards a future event if you email us on lee@welshotimaging.co.uk before 30th September 2026\nTickets are non-refundable\nIn accordance with our Terms of Service we may need to make changes to this event and we will do all we can to inform you as soon as possible
URL:https://welshotimaging.co.uk/event/capture-connect-a-morning-for-creatives-business-owners/
LOCATION:Welshot Creative Hub – 16 Trinity Square Llandudno\, 16 Trinity Square\, Llandudno - North Wales\, LL30 2RB\, United Kingdom
CATEGORIES:Full Day Event
ATTACH;FMTTYPE=image/png:https://welshotimaging.co.uk/wp-content/uploads/2025/10/Capture-and-Connect-Graphic-FINAL.png
ORGANIZER;CN="Welshot Imaging LTD":MAILTO:info@welshotimaging.co.uk
END:VEVENT
END:VCALENDAR