BEGIN:VCALENDAR
VERSION:2.0
PRODID:-//Welshot Imaging - ECPv6.15.20//NONSGML v1.0//EN
CALSCALE:GREGORIAN
METHOD:PUBLISH
X-ORIGINAL-URL:https://welshotimaging.co.uk
X-WR-CALDESC:Events for Welshot Imaging
REFRESH-INTERVAL;VALUE=DURATION:PT1H
X-Robots-Tag:noindex
X-PUBLISHED-TTL:PT1H
BEGIN:VTIMEZONE
TZID:Europe/London
BEGIN:DAYLIGHT
TZOFFSETFROM:+0000
TZOFFSETTO:+0100
TZNAME:BST
DTSTART:20250330T010000
END:DAYLIGHT
BEGIN:STANDARD
TZOFFSETFROM:+0100
TZOFFSETTO:+0000
TZNAME:GMT
DTSTART:20251026T010000
END:STANDARD
BEGIN:DAYLIGHT
TZOFFSETFROM:+0000
TZOFFSETTO:+0100
TZNAME:BST
DTSTART:20260329T010000
END:DAYLIGHT
BEGIN:STANDARD
TZOFFSETFROM:+0100
TZOFFSETTO:+0000
TZNAME:GMT
DTSTART:20261025T010000
END:STANDARD
BEGIN:DAYLIGHT
TZOFFSETFROM:+0000
TZOFFSETTO:+0100
TZNAME:BST
DTSTART:20270328T010000
END:DAYLIGHT
BEGIN:STANDARD
TZOFFSETFROM:+0100
TZOFFSETTO:+0000
TZNAME:GMT
DTSTART:20271031T010000
END:STANDARD
END:VTIMEZONE
BEGIN:VEVENT
DTSTART;TZID=Europe/London:20260425T050000
DTEND;TZID=Europe/London:20260425T210000
DTSTAMP:20260420T115227
CREATED:20250703T160629Z
LAST-MODIFIED:20260203T102348Z
UID:10000428-1777093200-1777150800@welshotimaging.co.uk
SUMMARY:Lighthouses\, Piers & Bridges - Low-Light & Long Exposure Photography on Anglesey
DESCRIPTION:Lighthouses\, Piers & Bridges – Low-Light & Long Exposure Photography on Anglesey\nThe only thing better than low light and long exposure photography is a day spent photographing lighthouses\, piers and bridges on the historic island of Anglesey.  Join us for this captivating Welshot photography workshop\, ideal for embracing the magic of a mid-winter day. Beginning at Penmon\, we’ll witness the sunrise over the Great Orme\, casting its glow over Llandudno\, North Wales. Discover the art of long exposure photography\, mastering various shutter speeds to capture the mesmerising ‘Milky / Blurry’ effect on the sea. This day promises a diverse range of subjects and genres\, from sweeping seascapes to intricate landscapes\, and from architectural marvels to capturing the details of macro and close-up photography. \nOur journey will take us from the historic Telford’s Menai Bridge to the impressive Britannia Bridge\, both of which connect the island of Anglesey to mainland North Wales. These photogenic bridges will provide endless opportunities for capturing their engineering beauty. We’ll start at Coed Cyrnol Car Park and stroll along the Belgium Promenade\, with our first stop at Llandysilio Island (also known as Church Island). Here\, you’ll capture the Britannia Bridge in its full splendour\, framed by the surrounding landscape. \nNext\, we’ll head towards Telford’s Menai Bridge. You’ll have the chance to photograph this awe-inspiring structure from multiple vantage points\, both from underneath and from above\, as we walk along its historic path. We’ll make our way onto and across the bridge itself\, allowing for unique angles that showcase its remarkable design and the views of the Menai Strait.  If time allows\, we’ll take a short drive to a nearby lookout layby along the A55 near the Britannia Bridge. From this vantage point\, you’ll be able to capture both the Britannia and Menai Bridges in all their glory\, with the sunset creating an atmospheric backdrop. As the day transitions into the blue hour\, you’ll have the opportunity to capture stunning images of these monumental structures as the light fades. \nThis is more than just a photography day\, it’s a chance to immerse yourself in the historical\, architectural\, and natural wonders of this coastal region. By the time we wrap up the day\, you’ll leave not only with a collection of stunning images but with a deep sense of satisfaction from a day well-spent exploring lighthouses\, piers\, and bridges. \nMain Image Credit:  John Bradburn \nYou Will Learn\n\nLong exposure techniques:\n\nMastering the use of long exposure to capture smooth such as ‘Milky – Blurry’ water effects.\n\n\nLow-light photography:\n\nTips and techniques for capturing stunning images in low-light conditions.\n\n\nShutter speed control:\n\nHow to experiment with different shutter speeds to create dynamic\, creative effects in seascape photography.\n\n\nSeascape and landscape composition:\n\nTechniques for composing visually striking images in coastal environments.\n\n\nArchitectural photography:\n\nCapturing the intricate details and grandeur of bridges\, including different angles and perspectives.\n\n\nCapturing historical structures:\n\nHow to photograph iconic landmarks like Telford’s Menai Bridge and Britannia Bridge.\n\n\nGolden hour and sunset photography:\n\nHow to capture the beauty of the changing light during sunrise and sunset.\n\n\nBlue hour photography:\n\nTechniques for shooting after sunset to capture the cool\, ambient light of the blue hour.\n\n\nCamera settings for changing Light:\n\nAdapting camera settings to successfully shoot in varying light conditions throughout the day.\n\n\nCreative Composition in architectural settings:\nUsing leading lines\, symmetry\, and framing to enhance architectural photos.\n\nBeginner to photography? We’re here for you.\nWhether you are a beginner to photography\, a photographer who would like to try a new genre\, learn a new technique or skill\, or\, a more advanced photographer who wants to build their image portfolio\, you will be made welcome\, and we would love to help you get the best out of your camera. \nThe Welshot Team will be at hand throughout this Lighthouses\, Piers & Bridges – Low-Light & Long Exposure Photography on Anglesey event to assist and help you get the best from your camera\, so you can leave at the end of this session with memory cards full of beautiful photographs and great memories having learned a thing or three about photography and your camera. \nEvent Schedule\n05:00 – Meet at Penmon Lighthouse\n05:56 – Sunrise\n9:30 – Head to Beaumaris Pier / Menai Bridge\n12:00 – Lunch (Not included – But there are various eating establishments in Beaumaris and/or Menai Bridge)\n13.00 – Meet at the Coed Cyrnol Car Park – Menai Bridge\n19:00 – Golden Hour\n20:36 – Sunset – then capture the Blue Hour\n21:00 – Finish \nPlease Bring\nCamera and lenses suitable for this event – Wide angle if possible – Standard zoom – Macro – Bring the lenses you have (or like working with) and we will help you get the best from your lens and camera\nSpare (Fully Charged) Batteries and Memory Card\nTripod / Cable release if you have one\nRefreshments – Snacks or drinks you think you will require during the event\nA list of ideas\, help\, questions etc that you would like to discuss with Welshot Team Leaders \nPlease Note\nTransportation\, toll-roads (Penmon)\, food or drink are not included in the cost of this event\nThis is an outdoors event.  Please make sure you come dressed appropriately.If Welshot decides to postpone this event due to bad weather conditions\, you will be given several options regarding your booking.\nIn accordance with our Terms of Service we may need to make changes to this event and e will do all we can to inform you as soon as possible.
URL:https://welshotimaging.co.uk/event/lighthouses-piers-bridges-low-light-long-exposure-photography-on-anglesey/
LOCATION:Penmon Lighthouse – Penmon Point\, Beaumaris\, Anglesey\, LL58 8RR\, United Kingdom
CATEGORIES:Full Day Event
ATTACH;FMTTYPE=image/jpeg:https://welshotimaging.co.uk/wp-content/uploads/2022/08/John-Bradburn-Shortest-Night-June-2022--scaled.jpeg
ORGANIZER;CN="Welshot Imaging LTD":MAILTO:info@welshotimaging.co.uk
GEO:53.3097847;-4.0519
X-APPLE-STRUCTURED-LOCATION;VALUE=URI;X-ADDRESS=Penmon Lighthouse – Penmon Point Beaumaris Anglesey LL58 8RR United Kingdom;X-APPLE-RADIUS=500;X-TITLE=Beaumaris:geo:-4.0519,53.3097847
END:VEVENT
BEGIN:VEVENT
DTSTART;TZID=Europe/London:20260429T183000
DTEND;TZID=Europe/London:20260429T220000
DTSTAMP:20260420T115227
CREATED:20250702T074221Z
LAST-MODIFIED:20260108T110256Z
UID:10000421-1777487400-1777500000@welshotimaging.co.uk
SUMMARY:Oil\, Water & Cross-Polarisation – Creative Photography – Llandudno Photographic Academy Evening
DESCRIPTION:Oil\, Water & Cross-Polarisation – Creative Photography – Llandudno Photographic Academy Evening\nUnlock the magic of creative photography using oil\, water & cross-polarisation at our Welshot photographic academy evening\, hosted at the Welshot creative hub in Llandudno. This session focuses on the captivating techniques of oil\, water & cross-polarisation photography. Learn how everyday objects\, from bottles to coloured cloth\, combined with your camera’s settings can produce stunning images that evoke a sense of wonder and creativity. \nExplore the dynamic interplay of shapes\, textures\, colors\, and movement to capture images that leave a lasting impression. From mastering fast shutter speeds for crisp water droplet shots to experimenting with long exposures for ethereal\, flowing water effects\, you’ll witness the captivating synergy of oil and water through your lens. \nThis evening is not just about capturing moments; it’s about unleashing your creativity in real-time photography\, where a laptop is left behind for hands-on\, in-camera magic. Gain practical skills\, techniques\, and creative ideas that will empower you to replicate and innovate at home. \nJoin us for an inspiring event that promises to fuel your passion for photography and leave you with newfound skills and boundless creative possibilities. \nMain Image Credit:  Louisa Crossley \nYou Will Learn\n\nMastering the interaction of oil and water:\n\nLearn how to photograph the fascinating way oil and water mix to create dynamic textures and colors that evoke a sense of motion and intrigue.\nDiscover how to set up and capture these unique interactions for visually striking results.\n\n\nTechniques for cross-polarisation photography:\n\nDive into the world of cross-polarisation\, a technique that allows you to manipulate light\, enhance contrasts\, and bring out intricate textures in your images. Understand the science behind this method and how to apply it effectively in your photography.\n\n\nCapturing water droplets with precision:\n\nLearn how to use fast shutter speeds to freeze the motion of water droplets in mid-air\, creating crystal-clear shots with perfect detail.\nThis technique will help you master timing and motion in a way that transforms everyday subjects into works of art.\n\n\nCreating silky smooth water effects with long exposures:\n\nDiscover how to use long exposure techniques to achieve beautiful\, ethereal effects with flowing water\, such as the soft\, milky look of waterfalls or ripples.\nExplore the settings and timing needed to achieve these mesmerizing visuals.\n\n\nHow to creatively compose everyday objects:\n\nLearn how to use simple items\, like bottles\, colored fabrics\, and household objects\, in your photographic setups.\nYou’ll explore ways to arrange and light these objects to bring out their hidden potential\, turning them into compelling subjects for your creative shots.\n\n\nUnderstanding key camera settings and functions:\n\nGet hands-on with your camera as you learn the essential settings—such as aperture\, shutter speed\, and ISO—that will help you capture the best images using these techniques.\nDevelop the skills to make real-time adjustments based on your creative vision.\n\n\nIn-camera creativity over post-processing:\n\nEmbrace the power of in-camera techniques to create breathtaking images without relying on complex post-processing.\nYou’ll learn how to perfect your shot while still in the field\, reducing the need for extensive editing on a laptop.\n\n\nExperimenting with light\, texture\, and movement:\n\nExplore the creative possibilities of combining different lighting conditions\, textures\, and movements within your shot.\nUnderstand how to use these elements to create depth\, contrast\, and visual interest that elevate the impact of your images.\n\n\nHow to bring this creative process into your own home studio:\n\nTake home the skills and techniques you learn during the session to experiment with similar setups in your own space.\n\n\n\nWith practical advice on how to recreate these effects at home\, you’ll be able to continue developing your creative photography long after the session. \nThis comprehensive approach will ensure that you leave the session not only inspired but fully equipped with the knowledge and confidence to create stunning creative photographs on your own. \nBeginner to photography? We’re here for you.\nWhether you are a beginner to photography\, a photographer who would like to try a new genre\, learn a new technique or skill\, or\, a more advanced photographer who wants to build their image portfolio\, you will be made welcome\, and we would love to help you get the best out of your camera. \nThe Welshot Team will be at hand throughout this Oil\, Water & Cross-Polarisation – Creative Photography – Llandudno Photographic Academy Evening event to assist and help you get the best from your camera\, so you can leave at the end of this session with memory cards full of beautiful photographs and great memories having learned a thing or three about photography and your camera. \nEvent Schedule\n18:30 – Meet at the Welshot Creative Hub – 16 Trinity Square\, Llandudno\n18:35 – Photography starts – One to One and Group tuition\n20:00 – Short break – time to grab yourself a hot/cold drink\n20:30 – Photography continues with One to One and Group Tuition\n22:00 – Finish \nPlease Bring\nCamera and lenses suitable for this event – Macro lens / Standard kit lens / 50mm prime\nSpare Batteries and Memory Card\nTripod / Cable release if you have one – Welshot can help you with this if you do not have either/both\nA list of ideas\, help\, questions etc that you would like to discuss with Welshot Team Leaders. \nPlease Note\nTea\, coffee\, hot chocolate and cold drinks are included\nIn accordance with our Terms of Service we may need to make changes to this event and we will do all we can to inform you as soon as possible
URL:https://welshotimaging.co.uk/event/oil-water-cross-polarisation-creative-photography-llandudno-photographic-academy-evening-3/
LOCATION:Welshot Creative Hub – 16 Trinity Square Llandudno\, 16 Trinity Square\, Llandudno - North Wales\, LL30 2RB\, United Kingdom
CATEGORIES:Academy Evening
ATTACH;FMTTYPE=image/jpeg:https://welshotimaging.co.uk/wp-content/uploads/2022/09/Louisa-Crossley-23rd-Nov-2019-4.jpg
ORGANIZER;CN="Welshot Imaging LTD":MAILTO:info@welshotimaging.co.uk
END:VEVENT
END:VCALENDAR