BEGIN:VCALENDAR
VERSION:2.0
PRODID:-//Welshot Imaging - ECPv6.15.20//NONSGML v1.0//EN
CALSCALE:GREGORIAN
METHOD:PUBLISH
X-WR-CALNAME:Welshot Imaging
X-ORIGINAL-URL:https://welshotimaging.co.uk
X-WR-CALDESC:Events for Welshot Imaging
REFRESH-INTERVAL;VALUE=DURATION:PT1H
X-Robots-Tag:noindex
X-PUBLISHED-TTL:PT1H
BEGIN:VTIMEZONE
TZID:Europe/London
BEGIN:DAYLIGHT
TZOFFSETFROM:+0000
TZOFFSETTO:+0100
TZNAME:BST
DTSTART:20250330T010000
END:DAYLIGHT
BEGIN:STANDARD
TZOFFSETFROM:+0100
TZOFFSETTO:+0000
TZNAME:GMT
DTSTART:20251026T010000
END:STANDARD
BEGIN:DAYLIGHT
TZOFFSETFROM:+0000
TZOFFSETTO:+0100
TZNAME:BST
DTSTART:20260329T010000
END:DAYLIGHT
BEGIN:STANDARD
TZOFFSETFROM:+0100
TZOFFSETTO:+0000
TZNAME:GMT
DTSTART:20261025T010000
END:STANDARD
BEGIN:DAYLIGHT
TZOFFSETFROM:+0000
TZOFFSETTO:+0100
TZNAME:BST
DTSTART:20270328T010000
END:DAYLIGHT
BEGIN:STANDARD
TZOFFSETFROM:+0100
TZOFFSETTO:+0000
TZNAME:GMT
DTSTART:20271031T010000
END:STANDARD
END:VTIMEZONE
BEGIN:VEVENT
DTSTART;TZID=Europe/London:20260510T103000
DTEND;TZID=Europe/London:20260510T170000
DTSTAMP:20260420T133633
CREATED:20250705T121652Z
LAST-MODIFIED:20260203T102709Z
UID:10000430-1778409000-1778432400@welshotimaging.co.uk
SUMMARY:Street & Documentary Photography in Liverpool
DESCRIPTION:Street & Documentary Photography in Liverpool\nExplore Liverpool through the lens of your camera with our street & documentary photography workshop.  Step into the heart of Liverpool with your camera in hand\, ready to capture the essence of this vibrant city through the art of street and documentary photography. At Welshot\, we believe that photography is more than just taking pictures\, it’s about telling stories and documenting the moments that define our world. This workshop invites both beginner and experienced photographers to immerse themselves in the streets of Liverpool\, where every corner offers new narratives waiting to be discovered. \nToday’s adventure will take place around the Albert Dock and Museum areas and we will then make our way up through this unique city (did you know\, Liverpool has the highest number of listed buildings outside London\, so\, perfect if you love architectural photography too!) towards the centre of Liverpool and finishing where we started in Liverpool One. \nAs we explore iconic landmarks\, hidden streets\, and the dynamic life of the city\, the Welshot Team will help\, support and guide you and you’ll learn how to capture the raw emotion\, spontaneity\, and authenticity of everyday life. Whether it’s the energy of the busy markets\, the charm of the local people\, or the timeless architecture\, you’ll have the opportunity to hone your skills in capturing moments that resonate with meaning. Join us for a creative day of learning\, exploration\, and storytelling\, all set against the backdrop of one of the UK’s most photogenic cities. \nMain Image Credit:  Eifion Williams \nYou Will Learn\n\nHow to capture candid\, unposed moments:\n\nYou’ll learn how to capture raw\, unposed moments that reveal the authenticity of street life\, turning fleeting interactions and scenes into meaningful photographs that speak to the heart of human experience.\n\n\nHow to shoot from the hip:\n\nA key technique in street photography\, shooting from the hip allows you to discreetly capture the action without drawing attention to yourself.\nYou’ll learn how to master this technique to create candid\, dynamic images while staying immersed in the moment.\n\n\nHow preserve the natural flow of the environment:\n\nStreet photography is all about blending into the scene. You’ll discover how to take photos without disrupting the environment\, allowing you to capture life as it happens naturally.\nThis skill helps you avoid staging or manipulating scenes\, resulting in authentic images.\n\n\nHow to tell a story through documentary and reportage photography:\n\nYou will develop an eye for storytelling\, learning how to capture not just a single moment\, but the larger narrative unfolding around you.\nYou’ll gain an understanding of how to document life through photographs that convey deeper meanings and provoke thought.\n\n\nHow to see and master black and white photography:\n\nWorking in black and white is a powerful way to focus on composition\, light\, shadow\, and texture.\nYou’ll learn how to see and capture the world through the lens of monochrome photography\, enhancing the emotional depth of your images.\n\n\nHow to photograph strangers with confidence and respect:\n\nOne of the most intimidating aspects of street photography is approaching strangers for portraits.\nYou’ll be guided on how to do this with sensitivity and respect\, learning techniques for engaging with people and capturing their essence in a way that feels authentic and genuine.\n\n\nHow to turn ordinary moments into powerful photographs:\n\nThrough keen observation and a creative eye\, you’ll learn how to see beauty in the everyday.\nWe’ll teach you how to notice the small details and compositions around you that often go unnoticed\, helping you to transform ordinary moments into extraordinary photographs.\n\n\nHow to develop new skills to increase your skill-set in different environments and situations:\n\nWhether you’re shooting on crowded streets\, in quiet alleys\, or in bustling markets\, you’ll gain the skills to adapt to various environments and situations.\n\n\n\nThis workshop will give you the confidence to handle a wide range of photographic challenges\, making you more versatile and skilled in diverse settings. \nBeginner to photography? We’re here for you.\nWhether you are a beginner to photography\, a photographer who would like to try a new genre\, learn a new technique or skill\, or\, a more advanced photographer who wants to build their image portfolio\, you will be made welcome\, and we would love to help you get the best out of your camera. \nThe Welshot Team will be at hand throughout this Street & Documentary Photography in Liverpool event to assist and help you get the best from your camera\, so you can leave at the end of this session with memory cards full of beautiful photographs and great memories having learned a thing or three about photography and your camera. \nEvent Schedule\n10:30 – Meet inside Pret A Manger – Liverpool One\n10:35 – Welcome\, information\, and instructions\n10:40 – Photography starts – 1:1 and Group Tuition will be provided\nWe will be stopping for comfort stops / refreshments (not included) at convenient times throughout the day\n17:00 – Finish \nPlease Bring\nCamera and lenses suitable for this event – Standard zoom (18 – 55mm) / Nifty 50mm – or your preferred lens you like to work with\nSpare batteries and memory card\nA list of ideas\, help\, questions etc that you would like to discuss with Welshot Team Leaders. \nPlease Note \nThis event is strictly limited to eight photographers.\nFood\, drink & entry fees are not included in this event.\nWe will be stopping for comfort stops / refreshments (not included) at convenient times throughout the day\nThis is an outdoors event.  Please make sure you come dressed appropriately.\nIf Welshot decides to postpone this event due to bad weather conditions\, you will be given several options regarding your booking\nIn accordance with our Terms of Service we may need to make changes to this event and we will do all we can to inform you as soon as possible.
URL:https://welshotimaging.co.uk/event/street-documentary-photography-in-liverpool/
LOCATION:Pret A Manger – Liverpool One\, 56a Paradise Street\, Liverpool\, L18 BQ\, United Kingdom
CATEGORIES:Full Day Event
ATTACH;FMTTYPE=image/jpeg:https://welshotimaging.co.uk/wp-content/uploads/2025/07/MAIN-IMAGE-NOV-2025-Street-Photography-in-Liverpool-Eifion-Williams-1-scaled.jpg
ORGANIZER;CN="Welshot Imaging LTD":MAILTO:info@welshotimaging.co.uk
GEO:53.4037459;-2.9863883
X-APPLE-STRUCTURED-LOCATION;VALUE=URI;X-ADDRESS=Pret A Manger – Liverpool One 56a Paradise Street Liverpool L18 BQ United Kingdom;X-APPLE-RADIUS=500;X-TITLE=56a Paradise Street:geo:-2.9863883,53.4037459
END:VEVENT
BEGIN:VEVENT
DTSTART;TZID=Europe/London:20260524T110000
DTEND;TZID=Europe/London:20260524T213000
DTSTAMP:20260420T133633
CREATED:20250609T112600Z
LAST-MODIFIED:20260227T091811Z
UID:10000411-1779620400-1779658200@welshotimaging.co.uk
SUMMARY:The Three Castles Challenge – A Photographic Adventure with Welshot
DESCRIPTION:The Three Castles Challenge – A Photographic Adventure with Welshot\nJoin Welshot as we explore three of North Wales’s most iconic castles\, capturing history\, landscapes\, and the magic of the day through your lens. \nOur adventure begins at the towering Conwy Castle\, where stone walls and battlements invite you to experiment with composition and perspective. From there\, we travel to Dolbadarn Castle in Llanberis\, nestled amidst stunning scenery that will spark your creativity. We finish at Caernarfon Castle\, just in time to photograph the sunset\, blue hour\, and practice long-exposure techniques as the day draws to a close. \nThroughout the day\, you’ll have the opportunity to: \n\nMaster Low-Light Photography:\n\nCapture dramatic\, atmospheric shots as daylight fades\, using your camera to its full potential.\n\n\nExplore Long Exposure Techniques:\n\nLearn how to create motion in water\, skies\, and clouds for that signature\, dreamy effect.\n\n\nHarness Sunset & Blue Hour Magic:\n\nDiscover how to make the most of these enchanting times to produce rich\, cinematic images.\n\n\nRefine Architectural Photography:\n\nFrom framing to detail\, learn how to photograph castles and historic structures that tell a story for generations.\n\n\n\nWhether you’re an experienced photographer or just starting your journey\, this photographic adventure is a perfect blend of creativity\, exploration\, and Welsh heritage\, set against some of the most photogenic backdrops in the country. \nJoin us for a day of photography\, learning\, and celebration of Wales’s incredible history.  Secure your spot now and capture the spirit of Wales through your camera! \nYou Will Learn\n\nCamera Settings and Functions:\n\nUnderstand how to adjust your camera settings (aperture\, shutter speed\, and ISO) for various lighting situations.\nGain confidence in using manual mode to have full control over your exposure and composition.\n\n\nWorking with Light and Shutter Speeds:\n\nMaster the use of light and shutter speeds to enhance your photos.\nLearn how to balance exposure in different lighting conditions to capture the perfect shot.\n\n\nThe Power of Good Composition:\n\nLearn how good composition techniques can transform your photos.\nExplore the rule of thirds\, leading lines\, and framing to create visually striking images.\n\n\nLandscape / Seascape Photography:\n\nMaster the art of shooting landscapes and seascapes\, capturing everything from sweeping vistas to detailed nature shots.\nLearn how to compose your landscape and seascape images to enhance depth and texture.\n\n\nCorrect Exposure Techniques:\n\nLearn how to properly expose your images using manual settings\, ensuring you capture the full range of highlights and shadows.\n\n\nLong Exposures and ICM (Intentional Camera Movement):\n\nExperiment with long exposure techniques to create creative effects\, such as silky water or ethereal light trails.\nUse intentional camera movement to add an artistic touch and movement to your images.\n\n\nCreative Thinking in Photography:\n\nExplore innovative approaches to photography and how to think outside the box for unique results.\nLearn how to challenge yourself creatively to capture extraordinary images.\n\n\n\nParticipants will leave with practical knowledge and hands-on experience\, ready to capture stunning\, creative images with confidence. \nBeginner to photography? We’re here for you.\nWhether you are a beginner to photography\, a photographer who would like to try a new genre\, learn a new technique or skill\, or\, a more advanced photographer who wants to build their image portfolio\, you will be made welcome\, and we would love to help you get the best out of your camera. \nThe Welshot Team will be at hand throughout this The Three Castles Challenge – A Photographic Adventure with Welshot event to assist and help you get the best from your camera\, so you can leave at the end of this session with memory cards full of beautiful photographs and great memories having learned a thing or three about photography and your camera. \nEvent Schedule\n11:00 – Meet at pre-arranged location in Conwy (email will be sent) – Welcome\, Introduction and Information\n11:15 – Photography starts in Conwy – Group tuition and 1:1 tuition\n14:00 – Drive to Llanberis\n15:00 – Meet in the car park below Dolbardarn Castle\n15:10 – Photography resumes – Group tuition and 1:1 tuition\n18:00 – Drive to Caernarfon Castle – Meet in the Castle car park.\n18:30 – Photography resumes – Group tuition and 1:1 tuition\n21:21 – Sunset / Blue hour low-light & long exposure photography\n22:30 – Finish \nWe advise you bring a picnic lunch and all-day refreshments to keep you going throughout the day.  There will be time for comfort stops enroute\, but we will be eating on the hoof!  If you do wish to stop\, you may do so\, but it will be your responsibility to catch up to the rest of the group. \nPlease Bring\nCamera and lenses suitable for this event – Wide angle if possible – Standard zoom – Macro – Bring the lenses you have (or like working with) and we will help you get the best from your lens and camera\nSpare (Fully Charged) Batteries and Memory CardTripod / Cable release if you have one\nRefreshments – Snacks or drinks you think you will require during the event\nA list of ideas\, help\, questions etc that you would like to discuss with Welshot Team Leaders \nPlease Note\nTransportation\, toll-roads\, entrance fees\, food or drink are not included in the cost of this event\nThis is an outdoors event.  Please make sure you come dressed appropriately.\nIf Welshot decides to postpone this event due to bad weather conditions\, you will be given several options regarding your booking.\nIn accordance with our Terms of Service we may need to make changes to this event and we will do all we can to inform you as soon as possible.
URL:https://welshotimaging.co.uk/event/the-three-castles-challenge-a-st-davids-day-photographic-adventure-with-welshot/
LOCATION:On Road Parking Near Collinge Antiques Llandudno Junction\, LL319LU\, United Kingdom
CATEGORIES:Full Day Event
ATTACH;FMTTYPE=image/jpeg:https://welshotimaging.co.uk/wp-content/uploads/2025/06/B020014.jpConwy-Castle-Modified-scaled.jpg
ORGANIZER;CN="Welshot Imaging LTD":MAILTO:info@welshotimaging.co.uk
END:VEVENT
END:VCALENDAR