BEGIN:VCALENDAR
VERSION:2.0
PRODID:-//Welshot Imaging - ECPv6.15.20//NONSGML v1.0//EN
CALSCALE:GREGORIAN
METHOD:PUBLISH
X-WR-CALNAME:Welshot Imaging
X-ORIGINAL-URL:https://welshotimaging.co.uk
X-WR-CALDESC:Events for Welshot Imaging
REFRESH-INTERVAL;VALUE=DURATION:PT1H
X-Robots-Tag:noindex
X-PUBLISHED-TTL:PT1H
BEGIN:VTIMEZONE
TZID:Europe/London
BEGIN:DAYLIGHT
TZOFFSETFROM:+0000
TZOFFSETTO:+0100
TZNAME:BST
DTSTART:20250330T010000
END:DAYLIGHT
BEGIN:STANDARD
TZOFFSETFROM:+0100
TZOFFSETTO:+0000
TZNAME:GMT
DTSTART:20251026T010000
END:STANDARD
BEGIN:DAYLIGHT
TZOFFSETFROM:+0000
TZOFFSETTO:+0100
TZNAME:BST
DTSTART:20260329T010000
END:DAYLIGHT
BEGIN:STANDARD
TZOFFSETFROM:+0100
TZOFFSETTO:+0000
TZNAME:GMT
DTSTART:20261025T010000
END:STANDARD
BEGIN:DAYLIGHT
TZOFFSETFROM:+0000
TZOFFSETTO:+0100
TZNAME:BST
DTSTART:20270328T010000
END:DAYLIGHT
BEGIN:STANDARD
TZOFFSETFROM:+0100
TZOFFSETTO:+0000
TZNAME:GMT
DTSTART:20271031T010000
END:STANDARD
END:VTIMEZONE
BEGIN:VEVENT
DTSTART;TZID=Europe/London:20260407T103000
DTEND;TZID=Europe/London:20260407T160000
DTSTAMP:20260420T133642
CREATED:20260318T112800Z
LAST-MODIFIED:20260318T112800Z
UID:10000446-1775557800-1775577600@welshotimaging.co.uk
SUMMARY:Welshot for Kids - A Photo Scavenger Hunt at Foel Farm Park
DESCRIPTION:Welshot for Kids – A Photo Scavenger Hunt at Foel Farm Park\nLooking for a fun and creative family activity in North Wales these Easter school holidays? Our Welshot for Kids Photo Scavenger Hunt at Foel Farm Park is a relaxed\, family-led experience designed to help children explore\, discover\, and engage with the world around them in a playful and meaningful way.  You can use your camera (or phone) or just simply take part in crossing off the items on our BINGO-style scavenger sheet. \nThis is a FREE activity/event but entrance to Foel Farm Park is required.   \nSet within the beautiful surroundings of Foel Farm Park on the banks of the Menai Straits on Anglesey\, this kids scavenger hunt invites families to take their time\, spot hidden details\, and enjoy a simple\, screen-free activity together. \nAs you explore the farm\, children will be invited to spot and tick off a series of fun and engaging items using our BINGO-style scavenger sheet. From animals and tractors to textures\, shapes\, and little details\, there’s plenty to discover along the way. \nThere’s no set route\, no time pressure\, and no right or wrong way to take part\, just a chance to enjoy one of the most enjoyable things to do with kids in North Wales\, at your own pace. \nHow it works:\n\nCollect your Welshot Photo Scavenger Hunt sheet\nExplore Foel Farm Park at your own pace\nSpot\, find\, and tick off the items as you go\nOptional: Take photos if you’d like\, but it’s not required\nEnjoy a simple\, creative activity as a family\n\nWhat they’ll learn (without it feeling like learning!)\n\nHow to notice details in the world around them:\n\nChildren will begin to look a little closer at things they might normally walk past.  From the texture of a goat’s fur to the patterns in the ground\, the shapes of tractor wheels\, or the way light falls across a surface. It’s about gently encouraging awareness and curiosity.\n\n\nThe joy of observation and curiosity:\n\nThis isn’t about getting the “right” answer\, it’s about asking questions\, exploring\, and discovering things for themselves. The scavenger hunt naturally encourages children to stay curious\, follow their instincts\, and enjoy the process of looking and finding.\n\n\nHow to look for colours\, shapes\, and patterns:\n\nThrough the BINGO-style sheet\, children will start to recognise colours\, repeating patterns\, and interesting shapes in a fun and engaging way. It helps them see the world more creatively\, without even realising they’re learning a key visual skill.\n\n\nStorytelling through what they find and see:\n\nEach item they tick off becomes part of their own little story of the day.  What they found first\, what surprised them\, what made them smile. Whether they take photos or not\, they’re beginning to understand how experiences can be turned into stories\n\n\nBuilding confidence through exploration and play:\n\nWith no pressure\, no time limits\, and no expectation to “perform\,” children are free to explore in their own way. This helps build confidence naturally\, celebrating small wins\, making choices\, and feeling proud of what they discover.\n\n\nSlowing down and being present in the moment:\n\nIn a world that often feels busy and fast-paced\, this activity creates space to slow down. To pause. To notice. To enjoy being outdoors\, spending time together\, and simply being in the moment without distraction.\n\n\n\nWho is this for:\n\nChildren of all ages who enjoy exploring and discovering\nFamilies looking for a relaxed\, creative activity to do together\nKids who love animals\, tractors\, and being outdoors\nChildren who prefer a gentle\, no-pressure environment\n\nWhat you’ll need\n\nYour BINGO-style scavenger sheet (provided)\nComfortable clothing and suitable footwear\nOptional: A camera or phone if you’d like to take photos\n\nA note for parents/guardians:\nThis is a self-led activity designed to be enjoyed together.  Parents or guardians are responsible for supervising their children at all times throughout the experience.
URL:https://welshotimaging.co.uk/event/welshot-for-kids-a-photo-scavenger-hunt-at-foel-farm-park-2/
LOCATION:Foel Farm Park\, Foel Farm Park Brynsiencyn\, Anglesey\, LL61 6TQ\, United Kingdom
CATEGORIES:Full Day Event
ATTACH;FMTTYPE=image/jpeg:https://welshotimaging.co.uk/wp-content/uploads/2026/03/Copy-of-WELSHOTFORKIDS.jpg
ORGANIZER;CN="Welshot Imaging LTD":MAILTO:info@welshotimaging.co.uk
END:VEVENT
END:VCALENDAR