BEGIN:VCALENDAR
VERSION:2.0
PRODID:-//Welshot Imaging - ECPv6.15.20//NONSGML v1.0//EN
CALSCALE:GREGORIAN
METHOD:PUBLISH
X-ORIGINAL-URL:https://welshotimaging.co.uk
X-WR-CALDESC:Events for Welshot Imaging
REFRESH-INTERVAL;VALUE=DURATION:PT1H
X-Robots-Tag:noindex
X-PUBLISHED-TTL:PT1H
BEGIN:VTIMEZONE
TZID:Europe/London
BEGIN:DAYLIGHT
TZOFFSETFROM:+0000
TZOFFSETTO:+0100
TZNAME:BST
DTSTART:20230326T010000
END:DAYLIGHT
BEGIN:STANDARD
TZOFFSETFROM:+0100
TZOFFSETTO:+0000
TZNAME:GMT
DTSTART:20231029T010000
END:STANDARD
BEGIN:DAYLIGHT
TZOFFSETFROM:+0000
TZOFFSETTO:+0100
TZNAME:BST
DTSTART:20240331T010000
END:DAYLIGHT
BEGIN:STANDARD
TZOFFSETFROM:+0100
TZOFFSETTO:+0000
TZNAME:GMT
DTSTART:20241027T010000
END:STANDARD
BEGIN:DAYLIGHT
TZOFFSETFROM:+0000
TZOFFSETTO:+0100
TZNAME:BST
DTSTART:20250330T010000
END:DAYLIGHT
BEGIN:STANDARD
TZOFFSETFROM:+0100
TZOFFSETTO:+0000
TZNAME:GMT
DTSTART:20251026T010000
END:STANDARD
END:VTIMEZONE
BEGIN:VEVENT
DTSTART;TZID=Europe/London:20241130T103000
DTEND;TZID=Europe/London:20241130T170000
DTSTAMP:20260420T121134
CREATED:20240826T104205Z
LAST-MODIFIED:20241028T143621Z
UID:10000376-1732962600-1732986000@welshotimaging.co.uk
SUMMARY:Build Your Portfolio Day with Xenia – Portrait Photography at the Welshot Creative Hub
DESCRIPTION:
URL:https://welshotimaging.co.uk/event/build-your-portfolio-day-with-xenia-portrait-photography-at-the-welshot-creative-hub/
LOCATION:Welshot Creative Hub – 16 Trinity Square Llandudno\, 16 Trinity Square\, Llandudno - North Wales\, LL30 2RB\, United Kingdom
CATEGORIES:Portfolio Building
ATTACH;FMTTYPE=image/jpeg:https://welshotimaging.co.uk/wp-content/uploads/2024/08/MAIN-IMAGE-Ksenia-Bakshinskaya-Xenia-GTKY-1st-June-2024-Steven-Riley-1-scaled.jpg
ORGANIZER;CN="Welshot Imaging LTD":MAILTO:info@welshotimaging.co.uk
END:VEVENT
END:VCALENDAR